BEGIN:VCALENDAR
VERSION:2.0
PRODID:-//SPA . Sociedade Portuguesa de Anestesiologia - ECPv6.15.12.2//NONSGML v1.0//EN
CALSCALE:GREGORIAN
METHOD:PUBLISH
X-WR-CALNAME:SPA . Sociedade Portuguesa de Anestesiologia
X-ORIGINAL-URL:https://spanestesiologia.pt
X-WR-CALDESC:Eventos para SPA . Sociedade Portuguesa de Anestesiologia
REFRESH-INTERVAL;VALUE=DURATION:PT1H
X-Robots-Tag:noindex
X-PUBLISHED-TTL:PT1H
BEGIN:VTIMEZONE
TZID:UTC
BEGIN:STANDARD
TZOFFSETFROM:+0000
TZOFFSETTO:+0000
TZNAME:UTC
DTSTART:20250101T000000
END:STANDARD
END:VTIMEZONE
BEGIN:VEVENT
DTSTART;TZID=UTC:20260429T090000
DTEND;TZID=UTC:20260429T170000
DTSTAMP:20260421T192826
CREATED:20260326T113133Z
LAST-MODIFIED:20260326T113133Z
UID:9895-1777453200-1777482000@spanestesiologia.pt
SUMMARY:CURSO - Acessos vasculares arteriais e venosos Eco-guiados no Adulto
DESCRIPTION:Este curso pretende dotar os participantes dos conhecimentos teóricos e das competências práticas para a colocação eficaz e segura de vários dispositivos de acesso vascular no adulto. \nDestinatários \nInternos de Formação Especifica e Especialistas \nData: 29 de abril \nCandidaturas: até 7 de abril
URL:https://spanestesiologia.pt/evento/curso-acessos-vasculares-arteriais-e-venosos-eco-guiados-no-adulto/
LOCATION:Serviço de Cirurgia Experimental\, ULS Santa Maria | Faculdade de Medicina\, ULisboa\, Portugal
CATEGORIES:Cursos
ATTACH;FMTTYPE=image/png:https://spanestesiologia.pt/wp-content/uploads/2026/03/acessos-vasculares.png
END:VEVENT
END:VCALENDAR