BEGIN:VCALENDAR
VERSION:2.0
PRODID:-//SPA . Sociedade Portuguesa de Anestesiologia - ECPv6.15.12.2//NONSGML v1.0//EN
CALSCALE:GREGORIAN
METHOD:PUBLISH
X-WR-CALNAME:SPA . Sociedade Portuguesa de Anestesiologia
X-ORIGINAL-URL:https://spanestesiologia.pt
X-WR-CALDESC:Eventos para SPA . Sociedade Portuguesa de Anestesiologia
REFRESH-INTERVAL;VALUE=DURATION:PT1H
X-Robots-Tag:noindex
X-PUBLISHED-TTL:PT1H
BEGIN:VTIMEZONE
TZID:UTC
BEGIN:STANDARD
TZOFFSETFROM:+0000
TZOFFSETTO:+0000
TZNAME:UTC
DTSTART:20180101T000000
END:STANDARD
END:VTIMEZONE
BEGIN:VEVENT
DTSTART;VALUE=DATE:20190315
DTEND;VALUE=DATE:20190317
DTSTAMP:20260422T084419
CREATED:20190105T003203Z
LAST-MODIFIED:20190129T122725Z
UID:3604-1552608000-1552780799@spanestesiologia.pt
SUMMARY:Curso de SAV Pediátrico
DESCRIPTION:15 e 16 de março de 2019 | Programa \nPara se inscrever neste curso\, por favor aceda através do congresso da SPA 2019 usando o seguinte link: https://skyros-congressos.pt/spa2019/ .
URL:https://spanestesiologia.pt/evento/curso-de-sav-pediatrico/
LOCATION:Centro de Simulação Biomédica de Coimbra\, Hospitais da Universidade de Coimbra Blocos de Celas Edifício Ortopedia II – R/C\, Coimbra\, Coimbra\, 3000-075\, Portugal
CATEGORIES:Formações SPA,Cursos
END:VEVENT
BEGIN:VEVENT
DTSTART;VALUE=DATE:20190308
DTEND;VALUE=DATE:20190310
DTSTAMP:20260422T084419
CREATED:20181217T213222Z
LAST-MODIFIED:20190202T180230Z
UID:3493-1552003200-1552175999@spanestesiologia.pt
SUMMARY:VAD – Curso de Via Aérea Dificil MAR/2019
DESCRIPTION:8 e 9 de março de 2019 | Programa
URL:https://spanestesiologia.pt/evento/vad-curso-de-via-aerea-dificil-marco-2019/
CATEGORIES:Formações SPA,Cursos
ATTACH;FMTTYPE=image/png:https://spanestesiologia.pt/wp-content/uploads/2018/12/icon_vad_v11.png
END:VEVENT
BEGIN:VEVENT
DTSTART;VALUE=DATE:20190307
DTEND;VALUE=DATE:20190308
DTSTAMP:20260422T084419
CREATED:20181207T021631Z
LAST-MODIFIED:20190116T002827Z
UID:3485-1551916800-1552003199@spanestesiologia.pt
SUMMARY:Curso de Especialização Fundamentos Científicos de Anestesiologia
DESCRIPTION:7 de janeiro de 2019 | Inscrições Abertas \n– 30 unidades europeia de crédito (ECTS);\n– Vagas: 150 \nInformações:\nDepartamento de Apoio a Investigação e à Pós-graduação\nTel.: 22 0426957\ne.mail: educacaocontinua@med.up.pt \nCalendarização:\n– Candidaturas on-line: 7 a 25.01.2019\n– Afixação de resultados provisórios: 28.01.2019\n– Audiência Prévia: 29.01 a 12.02.2019\n– Afixação de resultados definitivos: 13.02.2019\n– Apresentação de reclamação de resultados:  14.02.2019\n– Publicação da decisão de reclamações: 15.02.2019\n– Matrículas on-line: 18.02 a 4.03.2019\n– Modo de notificação dos candidatos: On-line na página da FMUP \nHorários:\n– Inicio a 7.03.2019/Fim a 27.02.2020\n– 5ª feira: 14h00-19h00 + 3 h de visualização de conteúdo de e-learning/semana. \nDestinatários:\nMédicos Especialistas em Anestesiologia;\nInternos de Formação Específica em Anestesiologia. \nCondições específicas de acesso/ingresso no curso:\nLicenciatura ou Mestrado Integrado em Medicina;\nInterno de Formação Específica de Anestesiologia;\nMédico especialista em Anestesiologia. \nCritérios de seleção e seriação dos candidatos e respetivas ponderações:\nSerá atribuída pontuação (0 a 20) às candidaturas de acordo com as seguintes características dos candidatos:\n–  Será dada prioridade médicos a frequentar o 1º ano do internato específico de anestesiologia (20 pontos); o critério de desempate é a média do curso.\n– Poderão também candidatarem-se médicos a frequentar o 2º ano do internato específico de anestesiologia (16 pontos)\, sendo também critério de desempate é a média do curso; médicos a frequentar o 3º\, 4º ou 5º ano do internato específico de anestesiologia (14 pontos)\, sendo também critério de desempate é a média do curso; e Médicos Especialistas em Anestesiologista (12 pontos)\, sendo também critério de desempate é a média do curso. \nEste curso é calendarizado por ano civil e não letivo pelo motivo de ter como destinatários os internos de formação específica de anestesiologia do primeiro ano e estes\, apenas\, iniciam a sua formação em janeiro.\nEm virtude da relativa novidade e dificuldade em atribuir regime b-learning a este tipo de proposta de ensino misto (ou seja\, em que cada estudante escolhe o seu regime)\, propomos um regime de frequência já aprovado para outros cursos de formação contínua da FMUP: \nRegime de frequência:\nOs estudantes têm a possibilidade de optar por dois regimes de frequência: o regime Presencial e o regime à Distância. Ambos os regimes possibilitam aos estudantes o acesso através da combinação de 3 vias (presença em sala de aula\, videoconferência e aula gravada) variando entre si na percentagem de acesso atribuída a cada uma destas modalidades.\n. No regime presencial os estudantes devem frequentar no mínimo 75% das aulas presenciais\, em sala de aula. Em casos excecionais e devidamente justificados\, os restantes 25% das aulas podem ser assistidas através de videoconferência e/ou aula gravada.\n. No regime à distância os estudantes devem frequentar no mínimo 75% das aulas através de videoconferência. Em casos excecionais e devidamente justificados\, os restantes 25% das aulas podem ser assistidos em diferido através de aula gravada. A inscrição no regime à distância encontra-se reservado aos estudantes que não apresentem condições para frequência no regime presencial.\nSeleção para o tipo de regime de frequência: estudantes provenientes de hospitais que distem menos de 50 Km da FMUP\, terão regime de ensino presencial\, estudantes provenientes de hospitais que distem mais 50 Km da FMUP terão regime de ensino à distância.
URL:https://spanestesiologia.pt/evento/curso-de-especializacao-fundamentos-cientificos-de-anestesiologia/
CATEGORIES:Patrocinio cientifico SPA
ATTACH;FMTTYPE=image/jpeg:https://spanestesiologia.pt/wp-content/uploads/2018/12/poster_cefca.jpg
ORGANIZER;CN="FMUP":MAILTO:educacaocontinua@med.up.pt
END:VEVENT
BEGIN:VEVENT
DTSTART;VALUE=DATE:20190126
DTEND;VALUE=DATE:20190127
DTSTAMP:20260422T084419
CREATED:20190105T005618Z
LAST-MODIFIED:20190129T122517Z
UID:3614-1548460800-1548547199@spanestesiologia.pt
SUMMARY:Reunião “Pensar o cérebro anestesiado” - Manhãs Monotemáticas
DESCRIPTION:26 de janeiro de 2019 | Programa \nNo âmbito das Comemorações dos 25 anos do Hospital do SAMS\, o Departamento de Anestesiologia e Reanimação do Hospital do SAMS organiza\, no dia 26 de janeiro de 2019\, numa das Manhãs Monotemáticas integrada na parceria com a Universidade Católica\, uma reunião submetida ao tema “Pensar o cérebro anestesiado”. \n 
URL:https://spanestesiologia.pt/evento/reuniao-pensar-o-cerebro-anestesiado-manhas-monotematicas/
LOCATION:Instituto de Ciências Sociais da Universidade de Lisboa\, Av. Prof. Aníbal Bettencourt 9\, Lisboa\, Lisboa\, 1600-189\, Portugal
CATEGORIES:Patrocinio cientifico SPA
ATTACH;FMTTYPE=image/jpeg:https://spanestesiologia.pt/wp-content/uploads/2019/01/cartaz_pensar_cerebro_anestesiado_v2.jpg
END:VEVENT
BEGIN:VEVENT
DTSTART;VALUE=DATE:20190119
DTEND;VALUE=DATE:20190120
DTSTAMP:20260422T084419
CREATED:20181112T112606Z
LAST-MODIFIED:20190116T003147Z
UID:2496-1547856000-1547942399@spanestesiologia.pt
SUMMARY:1º Update em Neuroanestesiologia 2019
DESCRIPTION:Programa | Inscrição \n 
URL:https://spanestesiologia.pt/evento/1o-update-em-neuroanestesiologia-2019/
LOCATION:Braga\, Braga\, Portugal
CATEGORIES:Organização SPA
ATTACH;FMTTYPE=image/jpeg:https://spanestesiologia.pt/wp-content/uploads/2018/11/cartaz_update_neuroanestesiologia_2018_v5-1.jpg
END:VEVENT
BEGIN:VEVENT
DTSTART;VALUE=DATE:20190107
DTEND;VALUE=DATE:20190108
DTSTAMP:20260422T084419
CREATED:20190106T014437Z
LAST-MODIFIED:20250219T145317Z
UID:3628-1546819200-1546905599@spanestesiologia.pt
SUMMARY:InAnestesia 2019
DESCRIPTION:7 a 11 de janeiro de 2018 | Programa
URL:https://spanestesiologia.pt/evento/inanestesia-2019/
LOCATION:Escola de Medicina da Universidade do Minho\, Campus da Universidade do Minho\, Braga\, Minho\, 4710-057\, Portugal
CATEGORIES:Patrocinio cientifico SPA
ATTACH;FMTTYPE=image/jpeg:https://spanestesiologia.pt/wp-content/uploads/2019/01/inanestesia-1.jpg
END:VEVENT
BEGIN:VEVENT
DTSTART;VALUE=DATE:20190101
DTEND;VALUE=DATE:20190102
DTSTAMP:20260422T084419
CREATED:20190202T012942Z
LAST-MODIFIED:20250219T145219Z
UID:3751-1546300800-1546387199@spanestesiologia.pt
SUMMARY:ESRA events 2019
DESCRIPTION:ESRA Events 2019 | Link \n \n \n  \n  \n  \n  \n  \n  \n  \n  \n  \n  \n  \n  \n  \n  \n  \n  \n  \n  \n  \n  \n  \n  \n  \n  \n+info: ESRA
URL:https://spanestesiologia.pt/evento/esra-events-2019/
CATEGORIES:Outros Eventos
ATTACH;FMTTYPE=image/jpeg:https://spanestesiologia.pt/wp-content/uploads/2019/02/esra_events_2019_1_v2-1024x627-1.jpg
END:VEVENT
END:VCALENDAR