BEGIN:VCALENDAR
VERSION:2.0
PRODID:-//SPA . Sociedade Portuguesa de Anestesiologia - ECPv6.15.12.2//NONSGML v1.0//EN
CALSCALE:GREGORIAN
METHOD:PUBLISH
X-ORIGINAL-URL:https://spanestesiologia.pt
X-WR-CALDESC:Eventos para SPA . Sociedade Portuguesa de Anestesiologia
REFRESH-INTERVAL;VALUE=DURATION:PT1H
X-Robots-Tag:noindex
X-PUBLISHED-TTL:PT1H
BEGIN:VTIMEZONE
TZID:UTC
BEGIN:STANDARD
TZOFFSETFROM:+0000
TZOFFSETTO:+0000
TZNAME:UTC
DTSTART:20190101T000000
END:STANDARD
END:VTIMEZONE
BEGIN:VEVENT
DTSTART;VALUE=DATE:20210521
DTEND;VALUE=DATE:20210523
DTSTAMP:20260422T000232
CREATED:20201216T201655Z
LAST-MODIFIED:20210225T211703Z
UID:5396-1621555200-1621727999@spanestesiologia.pt
SUMMARY:VAD 2021 – Curso de Via Aérea Difícil
DESCRIPTION:VAD 2021 – Curso de Via Aérea Difícil\n21 e 22 de maio de 2021\n15 e 16 de outubro de 2021\n12 e 13 de novembro de 2021
URL:https://spanestesiologia.pt/evento/vad-2021-curso-de-via-aerea-dificil/
LOCATION:Centro Biomédico de Simulação CHP-ICBAS\, Porto\, Centro Biomédico de Simulação\, Porto\, Portugal
CATEGORIES:Formações SPA,Cursos
ATTACH;FMTTYPE=image/jpeg:https://spanestesiologia.pt/wp-content/uploads/2020/12/cartaz_vad_25022021.jpg
END:VEVENT
BEGIN:VEVENT
DTSTART;VALUE=DATE:20210520
DTEND;VALUE=DATE:20210521
DTSTAMP:20260422T000232
CREATED:20210511T090755Z
LAST-MODIFIED:20210511T091240Z
UID:5829-1621468800-1621555199@spanestesiologia.pt
SUMMARY:Curso MindKindful - Edição Online SPA
DESCRIPTION:20 de maio de 2021\, Curso MindKindful – Sociedade Portuguesa de Anestesiologia \nApresentação: \nO MindKindful é um programa para cuidar da mente que contempla práticas de mindfulness e compaixão ao longo de oito semanas. O mindfulness e compaixão estão intimamente ligados e toda a prática de mindfulness deve ser realizada com uma atitude de gentileza\, bondade e compaixão pelo próprio\, pelos outros e pela natureza. \nOrganização do curso:  \nO curso está organizado em 8 sessões de duas horas e meia\, sendo finalizado com um retiro de três horas. Embora desde o início do curso todas as práticas sejam realizadas com uma atitude compassiva e sejam introduzidas pequenas práticas de compaixão pelo próprio e pelo outro\, as seis primeiras sessões são essencialmente focadas no desenvolvimento de competências de mindfulness e as duas últimas centradas no treino da compaixão. Em cada sessão os praticantes terão acesso a áudios com as meditações referentes a essa sessão\, assim como textos de apoio acerca do tema da sessão. \nO curso MindKindful – Edição Online SPA\, conduzido pelo Professor Doutor José Pinto Gouveia\, irá decorrer ao longo de 8 sessões (às quintas-feiras das 21h00 às 23h45) iniciando dia 20 de maio 2021\, com recurso à plataforma Zoom. Este curso\, ministrado ao longo de 8 semanas\, irá integrar ainda um retiro com a duração de 3h00. Este retiro realizar-se-á no final do curso\, no sábado dia 10 de julho de 2021 das 10h00 às 13h00. \nNo mês de setembro iremos ainda disponibilizar a Experiência Imersiva MindKindful aos participantes deste curso.\nExperiência Imersiva MindKindful: Extensão do curso MindKindful composta por duas sessões extra\, de carácter facultativo\, que permite um aprofundamento dos conteúdos e práticas de meditação. O custo desta experiência tem um valor total de 50 euros e as inscrições serão abertas em julho. \nInscrição: \nO valor do curso MindKindful – Edição Online é de 225€\, que inclui o curso de 8 semanas\, o retiro\, textos de apoio e áudios com meditações guiadas.\nPoderá realizar a sua inscrição através do preenchimento do formulário disponível em: https://forms.gle/74UUNAaUrFQDvcBo9\nInscrições abertas até dia 10 de maio de 2021.\nConsulte o programa completo do Curso MindKindful em: https://apmindfulness.com/pdf/programa_mindkindful.pdf
URL:https://spanestesiologia.pt/evento/curso-mindkindful-edicao-online-spa/
LOCATION:Online
CATEGORIES:Organização SPA
ATTACH;FMTTYPE=image/jpeg:https://spanestesiologia.pt/wp-content/uploads/2021/05/cartaz_cursomindkindful.jpg
END:VEVENT
BEGIN:VEVENT
DTSTART;VALUE=DATE:20210429
DTEND;VALUE=DATE:20210502
DTSTAMP:20260422T000232
CREATED:20190524T143909Z
LAST-MODIFIED:20210407T122556Z
UID:4050-1619654400-1619913599@spanestesiologia.pt
SUMMARY:Congresso Sociedade Portuguesa de Anestesiologia 2021
DESCRIPTION:29 de abril a 1 de maio de 2021\, Evento Híbrido (virtual e presencial – Centro de Congressos Hotel Sheraton\, Porto)\nRegulamento para Submissão de Trabalhos | Evento e Inscrições | Programa Geral e Comunicações Livres \n49 créditos CME atribuídos ao Congresso SPA 2021 e Cursos pré-congresso \n\n10º Curso de Introdução à Anestesiologia para Internos de 1º Ano de Anestesiologia\nLocal: Sala Apollo\nData: 29 de abril – 14:00h – 19:00h\nCoordenação: Secção Internos da SPA\nParticipantes: máximo de 80 participantes\n \n10º Curso de Introdução à Anestesiologia para Internos da Formação Geral\nLocal: Sala Ariane\nCoordenação: Secção Internos da SPA\nParticipantes: máximo de 80 participantes
URL:https://spanestesiologia.pt/evento/congresso-sociedade-portuguesa-de-anestesiologia-2021/
LOCATION:Centro de Congressos Hotel Sheraton Porto\, Rua do Tenente Valadim 146\, Porto\, Porto\, 4100-476\, Portugal
CATEGORIES:Organização SPA
ATTACH;FMTTYPE=image/jpeg:https://spanestesiologia.pt/wp-content/uploads/2019/05/destaque-congresso-spa-2021.jpg
END:VEVENT
BEGIN:VEVENT
DTSTART;VALUE=DATE:20210429
DTEND;VALUE=DATE:20210430
DTSTAMP:20260422T000232
CREATED:20200124T173239Z
LAST-MODIFIED:20210317T132111Z
UID:4538-1619654400-1619740799@spanestesiologia.pt
SUMMARY:"Game of Drugs" - X Curso de Introdução à Anestesiologia 2021
DESCRIPTION:Curso Online “Game of Drugs” –  X Curso de Introdução à Anestesiologia\, 29 de abril de 2021 | Programa | Inscrições \n 
URL:https://spanestesiologia.pt/evento/game-of-drugs-x-curso-de-introducao-a-anestesiologia-2021/
LOCATION:Online
CATEGORIES:Organização SPA,Formações SPA,Cursos
ATTACH;FMTTYPE=image/jpeg:https://spanestesiologia.pt/wp-content/uploads/2020/01/cartaz_x-curso-de-introducao-a-anestesiologia-2021.jpg
END:VEVENT
BEGIN:VEVENT
DTSTART;TZID=UTC:20210422T080000
DTEND;TZID=UTC:20210425T170000
DTSTAMP:20260422T000232
CREATED:20210219T173127Z
LAST-MODIFIED:20210219T173127Z
UID:5707-1619078400-1619370000@spanestesiologia.pt
SUMMARY:Congresso Paulista de Anestesiologia - COPA 2021
DESCRIPTION:Congresso Paulista de Anestesiologia – COPA 2021\n22 e 25 de abril em São Paulo\, Brasil\, de maneira híbrida \nMais informações no hotsite do congresso: https://copa2021.saesp.org.br/
URL:https://spanestesiologia.pt/evento/congresso-paulista-de-anestesiologia-copa-2021/
LOCATION:São Paulo\, Brasil\, São Paulo\, Brasil
CATEGORIES:Outros Eventos
ATTACH;FMTTYPE=image/jpeg:https://spanestesiologia.pt/wp-content/uploads/2021/02/congresso_copa-2021.jpg
END:VEVENT
BEGIN:VEVENT
DTSTART;VALUE=DATE:20210422
DTEND;VALUE=DATE:20210423
DTSTAMP:20260422T000232
CREATED:20210407T112518Z
LAST-MODIFIED:20210506T011329Z
UID:5806-1619049600-1619135999@spanestesiologia.pt
SUMMARY:Webinar “Stress e Bem Estar nos Anestesiologistas Portugueses”
DESCRIPTION:Webinar “Stress e Bem Estar nos Anestesiologistas Portugueses” | 22 de abril de 2021 às 21h00 | Programa | Rever Webinar \nCICLO DE WEBINARS SPA 2021
URL:https://spanestesiologia.pt/evento/webinar-stress-e-bem-estar-nos-anestesiologistas-portugueses/
LOCATION:Online
CATEGORIES:Organização SPA
ATTACH;FMTTYPE=image/jpeg:https://spanestesiologia.pt/wp-content/uploads/2021/04/cartaz-22-abr_stress-e-bem-estar-nos-anestesiologistas-portugueses.jpg
END:VEVENT
BEGIN:VEVENT
DTSTART;VALUE=DATE:20210401
DTEND;VALUE=DATE:20210402
DTSTAMP:20260422T000232
CREATED:20210312T190509Z
LAST-MODIFIED:20210324T173537Z
UID:5749-1617235200-1617321599@spanestesiologia.pt
SUMMARY:Webinar “Um ano de Pandemia em Portugal”
DESCRIPTION:Webinar “Um ano de Pandemia em Portugal” | 01 de abril de 2021 às 21h00 | Programa | Registo Online \nCICLO DE WEBINARS SPA 2021
URL:https://spanestesiologia.pt/evento/webinar-um-ano-de-pandemia-em-portugal/
LOCATION:Online
CATEGORIES:Organização SPA
ATTACH;FMTTYPE=image/jpeg:https://spanestesiologia.pt/wp-content/uploads/2021/03/cartaz_webinar_01042021.jpg
END:VEVENT
BEGIN:VEVENT
DTSTART;VALUE=DATE:20210330
DTEND;VALUE=DATE:20210331
DTSTAMP:20260422T000232
CREATED:20210318T134455Z
LAST-MODIFIED:20210318T134455Z
UID:5784-1617062400-1617148799@spanestesiologia.pt
SUMMARY:ESAIC Webinar 2021: "Combining and monitoring anaesthesia techniques to optimise patient’s outcome"
DESCRIPTION:ESAIC Webinar 2021: “Combining and monitoring anaesthesia techniques to optimise patient’s outcome”\n18h00 às 19h00 CET | 30 de março de 2021 | Online \nSaber Mais: https://www.esaic.org/event/webinar-on-combining-and-monitoring-anaesthesia-techniques-to-optimise-patients-outcome/
URL:https://spanestesiologia.pt/evento/esaic-webinar-2021-combining-and-monitoring-anaesthesia-techniques-to-optimise-patients-outcome/
LOCATION:Online
CATEGORIES:Outros Eventos
ATTACH;FMTTYPE=image/jpeg:https://spanestesiologia.pt/wp-content/uploads/2021/03/cartaz-esaic-webinar-2021.jpg
END:VEVENT
BEGIN:VEVENT
DTSTART;VALUE=DATE:20210325
DTEND;VALUE=DATE:20210326
DTSTAMP:20260422T000232
CREATED:20210312T005920Z
LAST-MODIFIED:20210401T113521Z
UID:5744-1616630400-1616716799@spanestesiologia.pt
SUMMARY:Webinar "PBM em Cirurgia Cardíaca"
DESCRIPTION:Webinar “PBM em Cirurgia Cardíaca” | 25 de março de 2021 às 21h00 | Programa | Webinar Online \nCICLO DE WEBINARS SPA 2021
URL:https://spanestesiologia.pt/evento/webinar-pbm-em-cirurgia-cardiaca/
LOCATION:Online
CATEGORIES:Organização SPA
ATTACH;FMTTYPE=image/jpeg:https://spanestesiologia.pt/wp-content/uploads/2021/03/cartaz_webinar_25032021.jpg
END:VEVENT
BEGIN:VEVENT
DTSTART;VALUE=DATE:20210217
DTEND;VALUE=DATE:20210218
DTSTAMP:20260422T000232
CREATED:20210128T193842Z
LAST-MODIFIED:20210212T103715Z
UID:5528-1613520000-1613606399@spanestesiologia.pt
SUMMARY:Webinar "Apresentação dos Resultados do Inquérito sobre Aplicação das Recomendações de Abordagem da Hemorragia Obstétrica"
DESCRIPTION:Webinar “Anestesiologia Obstétrica – Retrospectiva 2020” | 17 de fevereiro 2021 às 21h00 | Programa | Registo Webinar \nCICLO DE WEBINARS SPA 2021
URL:https://spanestesiologia.pt/evento/webinar-apresentacao-dos-resultados-do-inquerito-sobre-aplicacao-das-recomendacoes-de-abordagem-da-hemorragia-obstetrica/
LOCATION:Online
CATEGORIES:Organização SPA
ATTACH;FMTTYPE=image/jpeg:https://spanestesiologia.pt/wp-content/uploads/2021/01/cartaz_webinar17fev2021.jpg
END:VEVENT
BEGIN:VEVENT
DTSTART;VALUE=DATE:20210210
DTEND;VALUE=DATE:20210211
DTSTAMP:20260422T000232
CREATED:20210121T154332Z
LAST-MODIFIED:20210216T170544Z
UID:5507-1612915200-1613001599@spanestesiologia.pt
SUMMARY:Webinar “Neuroanestesiologia”
DESCRIPTION:Webinar “Neuroanestesiologia” | 10 de fevereiro 2021 às 21h00 | Programa | Rever Webinar Online \nCICLO DE WEBINARS SPA 2021
URL:https://spanestesiologia.pt/evento/webinar-neuroanestesiologia/
LOCATION:Online
CATEGORIES:Organização SPA
ATTACH;FMTTYPE=image/jpeg:https://spanestesiologia.pt/wp-content/uploads/2021/01/cartaz_webinar_neuroanestesiologia_10fev2021_v2.jpg
END:VEVENT
BEGIN:VEVENT
DTSTART;VALUE=DATE:20210203
DTEND;VALUE=DATE:20210204
DTSTAMP:20260422T000232
CREATED:20201215T213354Z
LAST-MODIFIED:20210201T014735Z
UID:5370-1612310400-1612396799@spanestesiologia.pt
SUMMARY:Webinar “Formação Contínua em Tempo de Pandemia”
DESCRIPTION:Webinar “Formação Contínua em Tempo de Pandemia”| 03 de fevereiro 2021 às 21h00 | Programa | Registo Webinar \nCICLO DE WEBINARS SPA 2021
URL:https://spanestesiologia.pt/evento/webinar-formacao-continua-em-tempo-de-pandemia/
CATEGORIES:Organização SPA
ATTACH;FMTTYPE=image/jpeg:https://spanestesiologia.pt/wp-content/uploads/2020/12/cartaz_webinar03022021.jpg
END:VEVENT
BEGIN:VEVENT
DTSTART;VALUE=DATE:20210127
DTEND;VALUE=DATE:20210128
DTSTAMP:20260422T000232
CREATED:20201215T214039Z
LAST-MODIFIED:20210121T154314Z
UID:5379-1611705600-1611791999@spanestesiologia.pt
SUMMARY:Webinar “Anestesia/Analgesia para Cirurgia do Ombro”
DESCRIPTION:Webinar “Anestesia/Analgesia para Cirurgia do Ombro” | 27 de janeiro 2021 às 21h00 | Programa \nCICLO DE WEBINARS SPA 2021
URL:https://spanestesiologia.pt/evento/webinar-anestesia-analgesia-para-cirurgia-do-ombro/
LOCATION:Online
CATEGORIES:Organização SPA
ATTACH;FMTTYPE=image/jpeg:https://spanestesiologia.pt/wp-content/uploads/2020/12/cartaz_webinar_27012020_v2.jpg
END:VEVENT
BEGIN:VEVENT
DTSTART;VALUE=DATE:20210120
DTEND;VALUE=DATE:20210121
DTSTAMP:20260422T000232
CREATED:20201215T205407Z
LAST-MODIFIED:20210113T114257Z
UID:5366-1611100800-1611187199@spanestesiologia.pt
SUMMARY:Webinar “Fluidoterapia Perioperatória em Pediatria”
DESCRIPTION:Webinar “Fluidoterapia Perioperatória em Pediatria” | 20 de janeiro 2021 às 21h00 | Programa | Registo Webinar \nCICLO DE WEBINARS SPA 2021
URL:https://spanestesiologia.pt/evento/webinar-fluidoterapia-perioperatoria-em-pediatria/
CATEGORIES:Organização SPA
ATTACH;FMTTYPE=image/jpeg:https://spanestesiologia.pt/wp-content/uploads/2020/12/cartaz_webinar20jan2020.jpg
END:VEVENT
BEGIN:VEVENT
DTSTART;VALUE=DATE:20210113
DTEND;VALUE=DATE:20210114
DTSTAMP:20260422T000232
CREATED:20201215T213750Z
LAST-MODIFIED:20210105T125238Z
UID:5375-1610496000-1610582399@spanestesiologia.pt
SUMMARY:Webinar “Um Modelo de Economia Circular no Bloco Operatório”
DESCRIPTION:Webinar “Um Modelo de Economia Circular no Bloco Operatório” | 13 de janeiro 2021 às 21h00 | Programa | Registo Webinar \nCICLO DE WEBINARS SPA 2021
URL:https://spanestesiologia.pt/evento/webinar-um-modelo-de-economia-circular-no-bloco-operatorio/
CATEGORIES:Organização SPA
ATTACH;FMTTYPE=image/png:https://spanestesiologia.pt/wp-content/uploads/2020/12/cartaz_webinar13jan2021.png
END:VEVENT
BEGIN:VEVENT
DTSTART;TZID=UTC:20210105T080000
DTEND;TZID=UTC:20210108T170000
DTSTAMP:20260422T000232
CREATED:20201216T193947Z
LAST-MODIFIED:20201216T194445Z
UID:5390-1609833600-1610125200@spanestesiologia.pt
SUMMARY:InANESTESIA - Introdução à Anestesiologia Clínica
DESCRIPTION:O “InANESTESIA – Introdução à Anestesiologia Clínica” vai na 11º edição​ consecutiva\, tendo surgido em 2011 a partir de uma colaboração estreita entre a Escola de Medicina da UM e os diversos Serviços de Anestesiologia do País que se disponibilizaram em participar. \nMais informações em InAnestesia – InAnestesia
URL:https://spanestesiologia.pt/evento/inanestesia-introducao-a-anestesiologia-clinica/
CATEGORIES:Patrocinio cientifico SPA
ATTACH;FMTTYPE=image/png:https://spanestesiologia.pt/wp-content/uploads/2020/12/inastesia.png
END:VEVENT
BEGIN:VEVENT
DTSTART;VALUE=DATE:20201207
DTEND;VALUE=DATE:20201208
DTSTAMP:20260422T000232
CREATED:20201128T150824Z
LAST-MODIFIED:20201211T095732Z
UID:5334-1607299200-1607385599@spanestesiologia.pt
SUMMARY:Webinar "Transporte do doente crítico em tempos de COVID-19"
DESCRIPTION:Webinar “Transporte do doente crítico em tempos de COVID-19” | 07 de dezembro 2020 às 18h00 | Programa \nCICLO DE WEBINARS SPA 2020 \nRever Webinar Online
URL:https://spanestesiologia.pt/evento/webinar-transporte-do-doente-critico-em-tempos-covid19/
CATEGORIES:Organização SPA
ATTACH;FMTTYPE=image/jpeg:https://spanestesiologia.pt/wp-content/uploads/2020/11/cartaz_webinar_07dez2020.jpg
END:VEVENT
BEGIN:VEVENT
DTSTART;VALUE=DATE:20201128
DTEND;VALUE=DATE:20201201
DTSTAMP:20260422T000232
CREATED:20201026T232832Z
LAST-MODIFIED:20201026T232832Z
UID:5276-1606521600-1606780799@spanestesiologia.pt
SUMMARY:Virtual Euroanaesthesia Congress 2020
DESCRIPTION:Register for Euroanaesthesia 2020 | 28th to 30th November 2020\nHave the unique opportunity to meet with leading experts from all over the world within the field of anaesthesiology\, intensive care perioperative medicine\, emergency medicine and pain treatment.\nEuroanaesthesia is more than just three days of knowledge. With all our sessions online and available immediately and On-Demand after the live sessions end\, you can review the content as much as you like throughout the year. \nAttend EA20 and earn up to 19 CME Credits\nEACCME\, the European Accreditation Council for Continuing Medical Education Institution of the UEMS\, has granted: \n\nUp to 15 CME credits for Euroanaesthesia 2020\nUp to 4 CME credits for the Pre-congress Courses\n\nRegister Now!
URL:https://spanestesiologia.pt/evento/virtual-euroanaesthesia-congress-2020/
CATEGORIES:Outros Eventos
ATTACH;FMTTYPE=image/jpeg:https://spanestesiologia.pt/wp-content/uploads/2020/10/virtual_euroanesthesia2020_small.jpg
ORGANIZER;CN="Euroanaesthesia":MAILTO:registration@esaic.org
END:VEVENT
BEGIN:VEVENT
DTSTART;VALUE=DATE:20201125
DTEND;VALUE=DATE:20201126
DTSTAMP:20260422T000232
CREATED:20201012T201957Z
LAST-MODIFIED:20201211T095746Z
UID:5204-1606262400-1606348799@spanestesiologia.pt
SUMMARY:Webinar "Introdução à Investigação Clínica em Anestesiologia"
DESCRIPTION:Webinar “Introdução à Investigação Clínica em Anestesiologia” | 25 de novembro de 2020 às 21h30 | Programa \nCICLO DE WEBINARS SPA 2020\nTodas as quartas-feiras às 21h30\n14 de OUT a 25 de NOV \nRever Webinar Online \n 
URL:https://spanestesiologia.pt/evento/webinar-introducao-a-investigacao-clinica-em-anestesiologia/
CATEGORIES:Organização SPA
ATTACH;FMTTYPE=image/jpeg:https://spanestesiologia.pt/wp-content/uploads/2020/10/cartaz-spa-300-x-14-px-25-nov.jpg
END:VEVENT
BEGIN:VEVENT
DTSTART;VALUE=DATE:20201123
DTEND;VALUE=DATE:20201125
DTSTAMP:20260422T000232
CREATED:20181110T000237Z
LAST-MODIFIED:20190129T132004Z
UID:2468-1606089600-1606262399@spanestesiologia.pt
SUMMARY:Curso de Intervenção Ecoguiada em Medicina da Dor - WAPMU
DESCRIPTION:23 e 24 de novembro de 2019 | Programa \nA World Academy of Pain Ultrasonography Medicine (WAPMU) vai organizar o seu primeiro curso internacional das Secções do Norte de África e da Península Ibérica em Novembro de 2019\, em Marrocos.\nO curso é dirigido a médicos de todas as especialidades que tenham intervenção directa em patologia músculo-esquelética e Medicina de Dor e interesse em ecografia como ferramenta técnica para a prática clínica neste campo (Anestesiologia\, Medicina Física e Reabilitação\, Neurocirurgia\, Neurologia\, Ortopedia\, Radiologia\, Reumatologia). \n+info: https://www.wapmu.org/north-africa-and-iberian-peninsula-annual-meeting
URL:https://spanestesiologia.pt/evento/curso-de-intervencao-ecoguiada-em-medicina-da-dor-wapmu/
LOCATION:Marrakech\, Marrakech\, Marrakech\, Marrocos
CATEGORIES:Outros Eventos
END:VEVENT
BEGIN:VEVENT
DTSTART;VALUE=DATE:20201118
DTEND;VALUE=DATE:20201119
DTSTAMP:20260422T000232
CREATED:20201013T102702Z
LAST-MODIFIED:20201202T180323Z
UID:5216-1605657600-1605743999@spanestesiologia.pt
SUMMARY:Webinar "Prémios SPA/OCTAPHARMA"
DESCRIPTION:Webinar “Prémios SPA/OCTAPHARMA” | 18 de novembro de 2020 | Programa | Rever Webinar Online \nCICLO DE WEBINARS SPA 2020\nTodas as quartas-feiras às 21h30\n14 de OUT a 25 de NOV \nVer Regulamento
URL:https://spanestesiologia.pt/evento/webinar-premios-spa-octapharma/
CATEGORIES:Organização SPA
ATTACH;FMTTYPE=image/jpeg:https://spanestesiologia.pt/wp-content/uploads/2020/10/cartaz_webinar_18nov2020.jpg
END:VEVENT
BEGIN:VEVENT
DTSTART;VALUE=DATE:20201111
DTEND;VALUE=DATE:20201112
DTSTAMP:20260422T000232
CREATED:20201012T201634Z
LAST-MODIFIED:20201202T180449Z
UID:5200-1605052800-1605139199@spanestesiologia.pt
SUMMARY:Webinar "O Papel da Anestesiologia na Gestão da Transfusão"
DESCRIPTION:Webinar “O Papel da Anestesiologia na Gestão da Transfusão” | 11 de novembro de 2020 às 21h30 | Programa | Rever Webinar Online \nCICLO DE WEBINARS SPA 2020\nTodas as quartas-feiras às 21h30\n14 de OUT a 25 de NOV
URL:https://spanestesiologia.pt/evento/webinar-o-papel-da-anestesiologia-na-gestao-da-transfusao/
CATEGORIES:Organização SPA
ATTACH;FMTTYPE=image/jpeg:https://spanestesiologia.pt/wp-content/uploads/2020/10/cartaz-spa-300-x-14-px-11-nov.jpg
END:VEVENT
BEGIN:VEVENT
DTSTART;VALUE=DATE:20201106
DTEND;VALUE=DATE:20201108
DTSTAMP:20260422T000232
CREATED:20191016T123430Z
LAST-MODIFIED:20200721T190521Z
UID:4308-1604620800-1604793599@spanestesiologia.pt
SUMMARY:VAD 2020 - Curso de Via Aérea Difícil
DESCRIPTION:6 e 7\, 13 e 14 de novembro de 2020\nCentro Biomédico de Simulação CPH-ICBAS\, Porto \nInscrições: via.aerea.spa@gmail.com \n \n 
URL:https://spanestesiologia.pt/evento/curso-via-aerea-dificil-2020/
LOCATION:Porto\, Portugal\, Portugal
CATEGORIES:Cursos
ATTACH;FMTTYPE=image/jpeg:https://spanestesiologia.pt/wp-content/uploads/2019/10/destaque_vad_v3.jpg
END:VEVENT
BEGIN:VEVENT
DTSTART;VALUE=DATE:20201104
DTEND;VALUE=DATE:20201105
DTSTAMP:20260422T000232
CREATED:20201012T201341Z
LAST-MODIFIED:20201128T140542Z
UID:5196-1604448000-1604534399@spanestesiologia.pt
SUMMARY:Webinar "Dor Crónica Pós-Cirurgica"
DESCRIPTION:Webinar “Webinar “Dor Crónica Pós-Cirurgica” | 04 de novembro de 2020 às 21h30 | Programa | Rever Webinar Online \nCICLO DE WEBINARS SPA 2020\nTodas as quartas-feiras às 21h30\n14 de OUT a 25 de NOV
URL:https://spanestesiologia.pt/evento/webinar-dor-cronica-pos-cirurgica/
CATEGORIES:Organização SPA
ATTACH;FMTTYPE=image/jpeg:https://spanestesiologia.pt/wp-content/uploads/2020/10/cartaz-spa-300-x-14-px-04-nov.jpg
END:VEVENT
BEGIN:VEVENT
DTSTART;VALUE=DATE:20201028
DTEND;VALUE=DATE:20201029
DTSTAMP:20260422T000232
CREATED:20201010T151743Z
LAST-MODIFIED:20201128T140603Z
UID:5188-1603843200-1603929599@spanestesiologia.pt
SUMMARY:Webinar "Complicações Pulmonares Pós-Operatórias: Qual o papel do Anestesiologista?"
DESCRIPTION:Webinar “Complicações Pulmonares Pós-Operatórias: Qual o papel do Anestesiologista?” | 28 de outubro de 2020 às 21h30 | Programa | Rever Webinar Online \nCICLO DE WEBINARS SPA 2020\nTodas as quartas-feiras às 21h30\n14 de OUT a 25 de NOV
URL:https://spanestesiologia.pt/evento/webinar-complicacoes-pulmonares-pos-operatorias-qual-o-papel-do-anestesiologista/
CATEGORIES:Organização SPA
ATTACH;FMTTYPE=image/jpeg:https://spanestesiologia.pt/wp-content/uploads/2020/10/cartaz-webinar-28-out-spa.jpg
END:VEVENT
BEGIN:VEVENT
DTSTART;VALUE=DATE:20201021
DTEND;VALUE=DATE:20201022
DTSTAMP:20260422T000232
CREATED:20201006T152745Z
LAST-MODIFIED:20201128T140646Z
UID:5125-1603238400-1603324799@spanestesiologia.pt
SUMMARY:Webinar "Hemorragia Digestiva - Recomendações Portuguesas"
DESCRIPTION:Webinar “Hemorragia Digestiva – Recomendações Portuguesas” | 21 de outubro de 2020 às 21h30 | Programa | Rever webinar online\nApresentação do Algoritmo de Abordagem da Hemorragia Digestiva \nCICLO DE WEBINARS SPA 2020\nTodas as quartas-feiras às 21h30\n14 de OUT a 25 de NOV
URL:https://spanestesiologia.pt/evento/webinar-hemorragia-digestiva-recomendacoes-portuguesas/
CATEGORIES:Organização SPA
ATTACH;FMTTYPE=image/jpeg:https://spanestesiologia.pt/wp-content/uploads/2020/10/cartaz_webinar_21out.jpg
END:VEVENT
BEGIN:VEVENT
DTSTART;VALUE=DATE:20201014
DTEND;VALUE=DATE:20201015
DTSTAMP:20260422T000232
CREATED:20200923T153246Z
LAST-MODIFIED:20201021T164309Z
UID:5105-1602633600-1602719999@spanestesiologia.pt
SUMMARY:Webinar "Anestesiologia e Medicina Intensiva – Atualização COVID-19"
DESCRIPTION:Webinar “Anestesiologia e Medicina Intensiva – Atualização COVID-19” | 14 de outubro de 2020 às 21h30 | Programa | Rever o webinar online \nCICLO DE WEBINARS SPA 2020\nTodas as quartas-feiras às 21h30\n14 de OUT a 25 de NOV
URL:https://spanestesiologia.pt/evento/webinar-anestesiologia-e-medicina-intensiva-atualizacao-covid-19/
CATEGORIES:Organização SPA
ATTACH;FMTTYPE=image/jpeg:https://spanestesiologia.pt/wp-content/uploads/2020/09/cartaz_webinar_14out2020.jpg
END:VEVENT
BEGIN:VEVENT
DTSTART;VALUE=DATE:20200905
DTEND;VALUE=DATE:20200910
DTSTAMP:20260422T000232
CREATED:20190820T103348Z
LAST-MODIFIED:20190820T103420Z
UID:4151-1599264000-1599695999@spanestesiologia.pt
SUMMARY:17th World Congress of Anaesthesiologists 2020
DESCRIPTION:Mais informações: https://www.wcaprague2020.com
URL:https://spanestesiologia.pt/evento/17th-world-congress-of-anaesthesiologists-2020/
LOCATION:Praga\, Na Pankráci 17\,\, Prague 4\, Vysočany\, 14021\, República Checa
CATEGORIES:Outros Eventos
ATTACH;FMTTYPE=image/jpeg:https://spanestesiologia.pt/wp-content/uploads/2019/08/wca2020_cartaz.jpg
ORGANIZER;CN="Czech Society of Anaesthesiology and Intensive Care Medicine":MAILTO:wcaprague2020@guarant.cz
END:VEVENT
BEGIN:VEVENT
DTSTART;VALUE=DATE:20200118
DTEND;VALUE=DATE:20200119
DTSTAMP:20260422T000232
CREATED:20191014T162112Z
LAST-MODIFIED:20201128T140923Z
UID:4288-1579305600-1579391999@spanestesiologia.pt
SUMMARY:Update de Anestesiologia em Obstetrícia e Pediatria 2020
DESCRIPTION:18 de janeiro de 2020\, Hotel Júpiter\, Lisboa | Programa Evento | Programa Curso de Emergências Pediátricas \nComissão Científica e Organizadora: \nJoana Carvalhas\nSílvia Neves\nJosé Bismarck \nFernanda Barros \nAna Milheiro \nTeresa Rocha
URL:https://spanestesiologia.pt/evento/update-de-anestesiologia-em-obstetricia-e-pediatria-2020/
LOCATION:Hotel Júpiter\, Av. da República 46\, Lisboa\, Lisboa\, 1050-195\, Portugal
CATEGORIES:Organização SPA
ATTACH;FMTTYPE=image/jpeg:https://spanestesiologia.pt/wp-content/uploads/2019/10/update-de-anestesiologia-em-obstetrcia-e-pediatria-2020.jpg
END:VEVENT
BEGIN:VEVENT
DTSTART;VALUE=DATE:20200115
DTEND;VALUE=DATE:20200116
DTSTAMP:20260422T000232
CREATED:20200107T133911Z
LAST-MODIFIED:20201128T140932Z
UID:4496-1579046400-1579132799@spanestesiologia.pt
SUMMARY:Curso Emergências Pediátricas 2020
DESCRIPTION:15 de janeiro de 2020\, SIMULA – Centro de Simulação Clínica da Universidade de Aveiro | Programa Curso de Emergências Pediátricas \n  \n \nObjetivo:\nTreino de competências técnicas e não técnicas em cenário de simulação de emergências pediátricas. \nPúblico alvo:\nInternos de Anestesiologia que já tenham concluído estágio curricular em Anestesiologia Pediátrica (a partir do 3º ano) \nFormadores:\nJoana Figueiredo (Hospital de Dona Estefânia – Lisboa)\nJoana Marques (Hospital de Braga)\nTeresa Monteiro (Hospital Pediátrico de Coimbra)\nPedro Pina (Centro Materno-Infantil do Porto)\nSusana Vargas (Centro Hospitalar São João – Porto)\nHugo Trindade (Hospital da Luz – Lisboa) \nLocal a realizar:\nSIMULA – Centro de Simulação Clínica da Universidade de Aveiro \nDuração: Esta formação tem a duração de 1 dia (9h ás 19h).\nParticipantes: Mínimo 10 – Máximo 16 participantes \nGaleria: (grupo de internos da especialidade de vários pontos do país e especialistas em Anestesiologia no Curso de Emergências Pediátricas decorrido a 15 de janeiro de 2020)
URL:https://spanestesiologia.pt/evento/curso-emergencias-pediatricas-2020/
LOCATION:SIMULA – Centro de Simulação Clínica da Universidade de Aveiro\, Agras do Crasto\, Edifício 30 3810-193 Aveiro\, Aveiro\, Aveiro\, 3810-193\, Portugal
CATEGORIES:Formações SPA,Cursos
END:VEVENT
END:VCALENDAR